Workbook

Sheet Sales Forecast
B2: Sales Forecast with Regression Analysis
B3: GoPro Inc.
B5: in USD'mil
B7: Date | C7: USD'mil | E7: Quarter | G7: period (t) | H7: Q1 | I7: Q2 | J7: Q3 | L7: Forecast
B8: 41364 | C8: 255 | E8: Q1 | G8: 1 | H8: =IF($E8=H$7,1,0) -> 1 | I8: =IF($E8=I$7,1,0) -> 0 | J8: =IF($E8=J$7,1,0) -> 0 | L8: {=Regression!$B$17+MMULT('Sales Forecast'!G8:J8,Regression!$B$18:$B$21)} -> 251.33929
B9: 41455 | C9: 177 | E9: Q2 | G9: 2 | H9: =IF($E9=H$7,1,0) -> 0 | I9: =IF($E9=I$7,1,0) -> 1 | J9: =IF($E9=J$7,1,0) -> 0 | L9: {=Regression!$B$17+MMULT('Sales Forecast'!G9:J9,Regression!$B$18:$B$21)} -> 284.625
B10: 41547 | C10: 192 | E10: Q3 | G10: 3 | H10: =IF($E10=H$7,1,0) -> 0 | I10: =IF($E10=I$7,1,0) -> 0 | J10: =IF($E10=J$7,1,0) -> 1 | L10: {=Regression!$B$17+MMULT('Sales Forecast'!G10:J10,Regression!$B$18:$B$21)} -> 273.91071
B11: 41639 | C11: 361 | E11: Q4 | G11: 4 | H11: =IF($E11=H$7,1,0) -> 0 | I11: =IF($E11=I$7,1,0) -> 0 | J11: =IF($E11=J$7,1,0) -> 0 | L11: {=Regression!$B$17+MMULT('Sales Forecast'!G11:J11,Regression!$B$18:$B$21)} -> 467.19643
B12: 41729 | C12: 236 | E12: Q1 | G12: 5 | H12: =IF($E12=H$7,1,0) -> 1 | I12: =IF($E12=I$7,1,0) -> 0 | J12: =IF($E12=J$7,1,0) -> 0 | L12: {=Regression!$B$17+MMULT('Sales Forecast'!G12:J12,Regression!$B$18:$B$21)} -> 248.60714
B13: 41820 | C13: 245 | E13: Q2 | G13: 6 | H13: =IF($E13=H$7,1,0) -> 0 | I13: =IF($E13=I$7,1,0) -> 1 | J13: =IF($E13=J$7,1,0) -> 0 | L13: {=Regression!$B$17+MMULT('Sales Forecast'!G13:J13,Regression!$B$18:$B$21)} -> 281.89286
B14: 41912 | C14: 280 | E14: Q3 | G14: 7 | H14: =IF($E14=H$7,1,0) -> 0 | I14: =IF($E14=I$7,1,0) -> 0 | J14: =IF($E14=J$7,1,0) -> 1 | L14: {=Regression!$B$17+MMULT('Sales Forecast'!G14:J14,Regression!$B$18:$B$21)} -> 271.17857
B15: 42004 | C15: 634 | E15: Q4 | G15: 8 | H15: =IF($E15=H$7,1,0) -> 0 | I15: =IF($E15=I$7,1,0) -> 0 | J15: =IF($E15=J$7,1,0) -> 0 | L15: {=Regression!$B$17+MMULT('Sales Forecast'!G15:J15,Regression!$B$18:$B$21)} -> 464.46429
B16: 42094 | C16: 363 | E16: Q1 | G16: 9 | H16: =IF($E16=H$7,1,0) -> 1 | I16: =IF($E16=I$7,1,0) -> 0 | J16: =IF($E16=J$7,1,0) -> 0 | L16: {=Regression!$B$17+MMULT('Sales Forecast'!G16:J16,Regression!$B$18:$B$21)} -> 245.875
B17: 42185 | C17: 420 | E17: Q2 | G17: 10 | H17: =IF($E17=H$7,1,0) -> 0 | I17: =IF($E17=I$7,1,0) -> 1 | J17: =IF($E17=J$7,1,0) -> 0 | L17: {=Regression!$B$17+MMULT('Sales Forecast'!G17:J17,Regression!$B$18:$B$21)} -> 279.16071
B18: 42277 | C18: 400 | E18: Q3 | G18: 11 | H18: =IF($E18=H$7,1,0) -> 0 | I18: =IF($E18=I$7,1,0) -> 0 | J18: =IF($E18=J$7,1,0) -> 1 | L18: {=Regression!$B$17+MMULT('Sales Forecast'!G18:J18,Regression!$B$18:$B$21)} -> 268.44643
B19: 42369 | C19: 437 | E19: Q4 | G19: 12 | H19: =IF($E19=H$7,1,0) -> 0 | I19: =IF($E19=I$7,1,0) -> 0 | J19: =IF($E19=J$7,1,0) -> 0 | L19: {=Regression!$B$17+MMULT('Sales Forecast'!G19:J19,Regression!$B$18:$B$21)} -> 461.73214
... B35: 43830 | C35: 528 | E35: Q4 | G35: 28 | H35: =IF($E35=H$7,1,0) -> 0 | I35: =IF($E35=I$7,1,0) -> 0 | J35: =IF($E35=J$7,1,0) -> 0 | L35: {=Regression!$B$17+MMULT('Sales Forecast'!G35:J35,Regression!$B$18:$B$21)} -> 450.80357
B36: 43921 | E36: Q1 | G36: 29 | H36: =IF($E36=H$7,1,0) -> 1 | I36: =IF($E36=I$7,1,0) -> 0 | J36: =IF($E36=J$7,1,0) -> 0 | L36: {=Regression!$B$17+MMULT('Sales Forecast'!G36:J36,Regression!$B$18:$B$21)} -> 232.21429
B37: 44012 | E37: Q2 | G37: 30 | H37: =IF($E37=H$7,1,0) -> 0 | I37: =IF($E37=I$7,1,0) -> 1 | J37: =IF($E37=J$7,1,0) -> 0 | L37: {=Regression!$B$17+MMULT('Sales Forecast'!G37:J37,Regression!$B$18:$B$21)} -> 265.5
B38: 44104 | E38: Q3 | G38: 31 | H38: =IF($E38=H$7,1,0) -> 0 | I38: =IF($E38=I$7,1,0) -> 0 | J38: =IF($E38=J$7,1,0) -> 1 | L38: {=Regression!$B$17+MMULT('Sales Forecast'!G38:J38,Regression!$B$18:$B$21)} -> 254.78571
B39: 44196 | E39: Q4 | G39: 32 | H39: =IF($E39=H$7,1,0) -> 0 | I39: =IF($E39=I$7,1,0) -> 0 | J39: =IF($E39=J$7,1,0) -> 0 | L39: {=Regression!$B$17+MMULT('Sales Forecast'!G39:J39,Regression!$B$18:$B$21)} -> 448.07143
B42: Quarter | C42: Average Sales
B43: Q1 | C43: =AVERAGEIFS($C$8:$C$35,$E$8:$E$35,B43) -> 243.14286
B44: Q2 | C44: =AVERAGEIFS($C$8:$C$35,$E$8:$E$35,B44) -> 276.42857
B45: Q3 | C45: =AVERAGEIFS($C$8:$C$35,$E$8:$E$35,B45) -> 265.71429
B46: Q4 | C46: =AVERAGEIFS($C$8:$C$35,$E$8:$E$35,B46) -> 459

Sheet Regression
A1: SUMMARY OUTPUT
A3: Regression Statistics
A4: Multiple R | B4: 0.73685087
A5: R Square | B5: 0.5429492
A6: Adjusted R Square | B6: 0.4634621
A7: Standard Error | B7: 87.485145
A8: Observations | B8: 28
A10: ANOVA
B11: df | C11: SS | D11: MS | E11: F | F11: Significance F
A12: Regression | B12: 4 | C12: 209117.89 | D12: 52279.473 | E12: 6.8306584 | F12: 0.00089035835
A13: Residual | B13: 23 | C13: 176033.96 | D13: 7653.6506
A14: Total | B14: 27 | C14: 385151.86
B16: Coefficients | C16: Standard Error | D16: t Stat | E16: P-value | F16: Lower 95% | G16: Upper 95% | H16: Lower 95.0% | I16: Upper 95.0%
A17: Intercept | B17: 469.92857 | C17: 46.762777 | D17: 10.049202 | E17: 6.9678966e-10 | F17: 373.1924 | G17: 566.66475 | H17: 373.1924 | I17: 566.66475
A18: period (t) | B18: -0.68303571 | C18: 2.0666423 | D18: -0.33050505 | E18: 0.74401021 | F18: -4.958211 | G18: 3.5921396 | H18: -4.958211 | I18: 3.5921396
A19: Q1 | B19: -217.90625 | C19: 47.171988 | D19: -4.6193994 | E19: 0.00012018745 | F19: -315.48894 | G19: -120.32356 | H19: -315.48894 | I19: -120.32356
A20: Q2 | B20: -183.9375 | C20: 46.945089 | D20: -3.9181415 | E20: 0.00068921216 | F20: -281.05082 | G20: -86.824185 | H20: -281.05082 | I20: -86.824185
A21: Q3 | B21: -193.96875 | C21: 46.808422 | D21: -4.1438857 | E21: 0.00039333704 | F21: -290.79935 | G21: -97.138152 | H21: -290.79935 | I21: -97.138152
