Workbook

Sheet Beta-Calc
B2: Calculate Beta from Stock Data
B3: Magnimetrics
B5: in USD
B7: Covariance | C7: =_xlfn.COVARIANCE.P(F17:F1274,E17:E1274) -> 0.00017864809
B8: Variance | C8: =_xlfn.VAR.P(E17:E1274) -> 0.00017682462
B9: Beta | C9: =C7/C8 -> 1.0103123
B11: Beta (Slope function) | C11: =SLOPE(F17:F1274,E17:E1274) -> 1.0103123
B13: Beta (Regression Analysis) | C13: =Regression!C49 -> 1.0103123
B15: Date | C15: NASDAQ-GS Adj. Close | D15: AMZN Adj. close | E15: % Change in NASDAQ-GS | F15: % Change in AMZN
B16: 42174 | C16: =VLOOKUP(B16,'^NQGS'!A:F,6,0) -> 2387.5701 | D16: =VLOOKUP(B16,AMZN!A:F,6,0) -> 434.92001
B17: 42177 | C17: =VLOOKUP(B17,'^NQGS'!A:F,6,0) -> 2404.48 | D17: =VLOOKUP(B17,AMZN!A:F,6,0) -> 436.29001 | E17: =C17/C16-1 -> 0.0070824778 | F17: =D17/D16-1 -> 0.0031499953
B18: 42178 | C18: =VLOOKUP(B18,'^NQGS'!A:F,6,0) -> 2407.3899 | D18: =VLOOKUP(B18,AMZN!A:F,6,0) -> 445.98999 | E18: =C18/C17-1 -> 0.0012102047 | F18: =D18/D17-1 -> 0.022232874
B19: 42179 | C19: =VLOOKUP(B19,'^NQGS'!A:F,6,0) -> 2390.0701 | D19: =VLOOKUP(B19,AMZN!A:F,6,0) -> 440.84 | E19: =C19/C18-1 -> -0.0071944412 | F19: =D19/D18-1 -> -0.011547331
B20: 42180 | C20: =VLOOKUP(B20,'^NQGS'!A:F,6,0) -> 2385.45 | D20: =VLOOKUP(B20,AMZN!A:F,6,0) -> 440.10001 | E20: =C20/C19-1 -> -0.0019330467 | F20: =D20/D19-1 -> -0.0016785909
B21: 42181 | C21: =VLOOKUP(B21,'^NQGS'!A:F,6,0) -> 2370.6899 | D21: =VLOOKUP(B21,AMZN!A:F,6,0) -> 438.10001 | E21: =C21/C20-1 -> -0.0061875161 | F21: =D21/D20-1 -> -0.0045444217
B22: 42184 | C22: =VLOOKUP(B22,'^NQGS'!A:F,6,0) -> 2313.9099 | D22: =VLOOKUP(B22,AMZN!A:F,6,0) -> 429.85998 | E22: =C22/C21-1 -> -0.023950846 | F22: =D22/D21-1 -> -0.018808539
B23: 42185 | C23: =VLOOKUP(B23,'^NQGS'!A:F,6,0) -> 2326.3401 | D23: =VLOOKUP(B23,AMZN!A:F,6,0) -> 434.09 | E23: =C23/C22-1 -> 0.005371936 | F23: =D23/D22-1 -> 0.0098404391
B24: 42186 | C24: =VLOOKUP(B24,'^NQGS'!A:F,6,0) -> 2339.21 | D24: =VLOOKUP(B24,AMZN!A:F,6,0) -> 437.39002 | E24: =C24/C23-1 -> 0.0055322406 | F24: =D24/D23-1 -> 0.007602154
B25: 42187 | C25: =VLOOKUP(B25,'^NQGS'!A:F,6,0) -> 2337.78 | D25: =VLOOKUP(B25,AMZN!A:F,6,0) -> 437.70999 | E25: =C25/C24-1 -> -0.00061128844 | F25: =D25/D24-1 -> 0.00073155762
B26: 42191 | C26: =VLOOKUP(B26,'^NQGS'!A:F,6,0) -> 2329.23 | D26: =VLOOKUP(B26,AMZN!A:F,6,0) -> 436.04001 | E26: =C26/C25-1 -> -0.0036573368 | F26: =D26/D25-1 -> -0.0038152705
B27: 42192 | C27: =VLOOKUP(B27,'^NQGS'!A:F,6,0) -> 2332.23 | D27: =VLOOKUP(B27,AMZN!A:F,6,0) -> 436.72 | E27: =C27/C26-1 -> 0.0012879793 | F27: =D27/D26-1 -> 0.0015594716
B28: 42193 | C28: =VLOOKUP(B28,'^NQGS'!A:F,6,0) -> 2291.6101 | D28: =VLOOKUP(B28,AMZN!A:F,6,0) -> 429.70001 | E28: =C28/C27-1 -> -0.017416753 | F28: =D28/D27-1 -> -0.016074347
... B1274: 44000 | C1274: =VLOOKUP(B1274,'^NQGS'!A:F,6,0) -> 4699.52 | D1274: =VLOOKUP(B1274,AMZN!A:F,6,0) -> 2653.98 | E1274: =C1274/C1273-1 -> 0.0030478237 | F1274: =D1274/D1273-1 -> 0.0049224152

Sheet Regression
B2: Regression Analysis
B3: Magnimetrics
B5: in USD
B32: SUMMARY OUTPUT
B34: Regression Statistics
B35: Multiple R | C35: 0.71290323
B36: R Square | C36: 0.50823102
B37: Adjusted R Square | C37: 0.50783948
B38: Standard Error | C38: 0.013225817
B39: Observations | C39: 1258
B41: ANOVA
C42: df | D42: SS | E42: MS | F42: F | G42: Significance F
B43: Regression | C43: 1 | D43: 0.22705688 | E43: 0.22705688 | F43: 1298.0448 | G43: 8.4137085e-196
B44: Residual | C44: 1256 | D44: 0.21970231 | E44: 0.00017492222
B45: Total | C45: 1257 | D45: 0.44675919
C47: Coefficients | D47: Standard Error | E47: t Stat | F47: P-value | G47: Lower 95% | H47: Upper 95% | I47: Lower 95.0% | J47: Upper 95.0%
B48: Intercept | C48: 0.00098161321 | D48: 0.00037330611 | E48: 2.6295128 | F48: 0.0086551732 | G48: 0.00024924092 | H48: 0.0017139855 | I48: 0.00024924092 | J48: 0.0017139855
B49: X Variable 1 | C49: 1.0103123 | D49: 0.028042118 | E49: 36.028388 | F49: 8.4137085e-196 | G49: 0.95529775 | H49: 1.0653269 | I49: 0.95529775 | J49: 1.0653269
B53: RESIDUAL OUTPUT
B55: Observation | C55: Predicted Y | D55: Residuals
B56: 1 | C56: 0.0081371277 | D56: -0.0049871324
B57: 2 | C57: 0.0022042979 | D57: 0.020028577
B58: 3 | C58: -0.0062870193 | D58: -0.0052603116
B59: 4 | C59: -0.00097136765 | D59: -0.00070722324
B60: 5 | C60: -0.0052697105 | D60: 0.00072528883
B61: 6 | C61: -0.023216221 | D61: 0.0044076822
B62: 7 | C62: 0.0064089463 | D62: 0.0034314928
B63: 8 | C63: 0.006570904 | D63: 0.0010312501
B64: 9 | C64: 0.00036402097 | D64: 0.00036753665
B65: 10 | C65: -0.0027134392 | D65: -0.0011018312
B66: 11 | C66: 0.0022828745 | D66: -0.00072340297
B67: 12 | C67: -0.016614747 | D67: 0.00054039916
... B1313: 1258 | C1313: 0.004060867 | D1313: 0.00086154824

Sheet AMZN
A1: Date | B1: Open | C1: High | D1: Low | E1: Close | F1: Adj Close | G1: Volume
A2: 42174 | B2: 440.26001 | C2: 444.98999 | D2: 433.23999 | E2: 434.92001 | F2: 434.92001 | G2: 4495100
A3: 42177 | B3: 437 | C3: 439.23999 | D3: 434.17999 | E3: 436.29001 | F3: 436.29001 | G3: 1823600
A4: 42178 | B4: 435.59 | C4: 447.04001 | D4: 433.69 | E4: 445.98999 | F4: 445.98999 | G4: 3245000
A5: 42179 | B5: 444.97 | C5: 446.47 | D5: 440.23001 | E5: 440.84 | F5: 440.84 | G5: 2620800
A6: 42180 | B6: 438.07001 | C6: 443.47 | D6: 436.39002 | E6: 440.10001 | F6: 440.10001 | G6: 2237500
A7: 42181 | B7: 441.76001 | C7: 443.48999 | D7: 435.06 | E7: 438.10001 | F7: 438.10001 | G7: 2624500
A8: 42184 | B8: 434.98001 | C8: 437 | D8: 429 | E8: 429.85998 | F8: 429.85998 | G8: 2753200
A9: 42185 | B9: 434.20001 | C9: 435.57001 | D9: 430.45999 | E9: 434.09 | F9: 434.09 | G9: 2596900
A10: 42186 | B10: 439.35001 | C10: 440 | D10: 435.57999 | E10: 437.39002 | F10: 437.39002 | G10: 1987100
A11: 42187 | B11: 437 | C11: 438.20001 | D11: 433.48001 | E11: 437.70999 | F11: 437.70999 | G11: 1343400
A12: 42191 | B12: 435.23001 | C12: 439.73001 | D12: 433.51999 | E12: 436.04001 | F12: 436.04001 | G12: 1903200
A13: 42192 | B13: 435.67999 | C13: 437.73001 | D13: 425.57001 | E13: 436.72 | F13: 436.72 | G13: 3454200
... A1260: 44000 | B1260: 2647.01 | C1260: 2659.6399 | D1260: 2636.1101 | E1260: 2653.98 | F1260: 2653.98 | G1260: 2475500

Sheet ^NQGS
A1: Date | B1: Open | C1: High | D1: Low | E1: Close | F1: Adj Close | G1: Volume
A2: 42174 | B2: 2398.4399 | C2: 2398.6499 | D2: 2386.1399 | E2: 2387.5701 | F2: 2387.5701 | G2: 0
A3: 42177 | B3: 2402.04 | C3: 2408.6799 | D3: 2399.3101 | E3: 2404.48 | F3: 2404.48 | G3: 0
A4: 42178 | B4: 2408.0701 | C4: 2408.8401 | D4: 2397.8601 | E4: 2407.3899 | F4: 2407.3899 | G4: 0
A5: 42179 | B5: 2403.3601 | C5: 2409.5601 | D5: 2389.6899 | E5: 2390.0701 | F5: 2390.0701 | G5: 0
A6: 42180 | B6: 2398.01 | C6: 2399.3701 | D6: 2380.9199 | E6: 2385.45 | F6: 2385.45 | G6: 0
A7: 42181 | B7: 2385.95 | C7: 2389.8501 | D7: 2361.8401 | E7: 2370.6899 | F7: 2370.6899 | G7: 0
A8: 42184 | B8: 2343.03 | C8: 2357.0601 | D8: 2312.8101 | E8: 2313.9099 | F8: 2313.9099 | G8: 0
A9: 42185 | B9: 2333.3401 | C9: 2336.9099 | D9: 2317.74 | E9: 2326.3401 | F9: 2326.3401 | G9: 0
A10: 42186 | B10: 2346.02 | C10: 2350.6101 | D10: 2330.3201 | E10: 2339.21 | F10: 2339.21 | G10: 0
A11: 42187 | B11: 2344.45 | C11: 2346.01 | D11: 2329.1101 | E11: 2337.78 | F11: 2337.78 | G11: 0
A12: 42191 | B12: 2316.49 | C12: 2342.8501 | D12: 2315.3 | E12: 2329.23 | F12: 2329.23 | G12: 0
A13: 42192 | B13: 2330.1699 | C13: 2334.4399 | D13: 2287.6599 | E13: 2332.23 | F13: 2332.23 | G13: 0
... A1260: 44000 | B1260: 4676.6899 | C1260: 4706.6201 | D1260: 4673.04 | E1260: 4699.52 | F1260: 4699.52 | G1260: 1856000
