Workbook

Sheet Model
U2: Cash Flow Forecast Model Template prepared by Magnimetrics.
A3: Cash Flow Forecast Model | U3: Magnimetrics takes no responsibility for any losses that may arise from using the information within this file.
B5: Assumptions & Inputs | E5: 1 | F5: 2 | G5: 3 | H5: 4 | I5: 5 | J5: 6 | K5: 7 | L5: 8 | M5: 9 | N5: 10 | O5: 11 | P5: 12 | Q5: 13 | R5: 14 | S5: 15 | T5: 16 | U5: 17 | V5: 18
D6: Sales & COGS Forecast
D7: Cash Sales % | E7: 0.6 | F7: 0.6 | G7: 0.6 | H7: 0.6 | I7: 0.6 | J7: 0.6 | K7: 0.6 | L7: 0.6 | M7: 0.6 | N7: 0.6 | O7: 0.6 | P7: 0.6 | Q7: 0.6 | R7: 0.6 | S7: 0.6 | T7: 0.6 | U7: 0.6 | V7: 0.6
D8: Credit Sales % | E8: =1-E7 -> 0.4 | F8: =1-F7 -> 0.4 | G8: =1-G7 -> 0.4 | H8: =1-H7 -> 0.4 | I8: =1-I7 -> 0.4 | J8: =1-J7 -> 0.4 | K8: =1-K7 -> 0.4 | L8: =1-L7 -> 0.4 | ... V8: =1-V7 -> 0.4
D9: Credit Sales collection delay | E9: 1 month
D10: Returns % | E10: 0.05 | F10: 0.05 | G10: 0.05 | H10: 0.05 | I10: 0.05 | J10: 0.05 | K10: 0.05 | L10: 0.05 | M10: 0.05 | N10: 0.05 | O10: 0.05 | P10: 0.05 | Q10: 0.05 | R10: 0.05 | S10: 0.05 | T10: 0.05 | U10: 0.05 | V10: 0.05
D12: Product A
D13: Volume | E13: 50 | F13: 60 | G13: 70 | H13: 100 | I13: 150 | J13: 200 | K13: 240 | L13: 230 | M13: 220 | N13: 200 | O13: 190 | P13: 200 | Q13: 180 | R13: 190 | S13: 200 | T13: 190 | U13: 200 | V13: 195
D14: Price | E14: 155 | F14: =E14 -> 155 | G14: =F14 -> 155 | H14: =G14 -> 155 | I14: =H14 -> 155 | J14: =I14 -> 155 | K14: =J14 -> 155 | L14: =K14 -> 155 | M14: =L14 -> 155 | ... V14: =U14 -> 155
D15: COGS % | E15: 0.8 | F15: 0.8 | G15: 0.8 | H15: 0.8 | I15: 0.8 | J15: 0.8 | K15: 0.8 | L15: 0.8 | M15: 0.8 | N15: 0.8 | O15: 0.8 | P15: 0.8 | Q15: 0.8 | R15: 0.8 | S15: 0.8 | T15: 0.8 | U15: 0.8 | V15: 0.8
D17: Product B
D18: Volume | E18: 30 | F18: 40 | G18: 50 | H18: 40 | I18: 45 | J18: 55 | K18: 50 | L18: 60 | M18: 50 | N18: 45 | O18: 50 | P18: 60 | Q18: 55 | R18: 50 | S18: 60 | T18: 55 | U18: 60 | V18: 50
D19: Price | E19: 260 | F19: =E19 -> 260 | G19: =F19 -> 260 | H19: =G19 -> 260 | I19: =H19 -> 260 | J19: =I19 -> 260 | K19: =J19 -> 260 | L19: =K19 -> 260 | M19: =L19 -> 260 | ... V19: =U19 -> 260
D20: COGS % | E20: 0.75 | F20: 0.75 | G20: 0.75 | H20: 0.75 | I20: 0.75 | J20: 0.75 | K20: 0.75 | L20: 0.75 | M20: 0.75 | N20: 0.75 | O20: 0.75 | P20: 0.75 | Q20: 0.75 | R20: 0.75 | S20: 0.75 | T20: 0.75 | U20: 0.75 | V20: 0.75
D22: Other inflows
D23: Additional investment
D24: Government grant | H24: 10000
D27: Admin & Operating costs
D28: Head count | E28: 2 | F28: 2 | G28: 2 | H28: 3 | I28: 3 | J28: 3 | K28: 3 | L28: 3 | M28: 3 | N28: 3 | O28: 3 | P28: 3 | Q28: 3 | R28: 3 | S28: 3 | T28: 3 | U28: 3 | V28: 3
D29: Average Gross Salary | E29: 850 | F29: 850 | G29: 850 | H29: 850 | I29: 850 | J29: 850 | K29: 850 | L29: 850 | M29: 900 | N29: 900 | O29: 900 | P29: 900 | Q29: 900 | R29: 900 | S29: 900 | T29: 900 | U29: 900 | V29: 900
D30: Employeer payroll taxes % | E30: 0.21 | F30: 0.21 | G30: 0.21 | H30: 0.21 | I30: 0.21 | J30: 0.21 | K30: 0.21 | L30: 0.21 | M30: 0.21 | N30: 0.21 | O30: 0.21 | P30: 0.21 | Q30: 0.21 | R30: 0.21 | S30: 0.21 | T30: 0.21 | U30: 0.21 | V30: 0.21
D31: Marketing costs | E31: 1500 | F31: 1500 | G31: 1500 | H31: 1500 | I31: 1500 | J31: 1500 | K31: 1500 | L31: 1500 | M31: 1500 | N31: 1500 | O31: 1500 | P31: 1500 | Q31: 1500 | R31: 1500 | S31: 1500 | T31: 1500 | U31: 1500 | V31: 1500
D32: Transport per item | E32: 5 | F32: 5 | G32: 5 | H32: 5 | I32: 5 | J32: 5 | K32: 5 | L32: 5 | M32: 5 | N32: 5 | O32: 5 | P32: 5 | Q32: 5 | R32: 5 | S32: 5 | T32: 5 | U32: 5 | V32: 5
D34: Other purchases
D35: Furniture | E35: -1500 | H35: -800
D36: Hardware | E36: -4000 | H36: -2500 | P36: -4000
D37: Software | E37: -2000 | H37: -1200 | Q37: -2000
B39: Cash Flow Scenario Modifiers
D40: Change in Sales | E40: 0
D41: Change in Other inflows | E41: 0
D42: Change in COGS | E42: 0
D43: Change in OPEX | E43: 0
D44: Change in Other outflows | E44: 0
D45: Model Start Date | E45: 43831
E47: =E45 -> 43831 | F47: =DATE(YEAR(E47),MONTH(E47)+1,DAY(E47)) -> 43862 | G47: =DATE(YEAR(F47),MONTH(F47)+1,DAY(F47)) -> 43891 | H47: =DATE(YEAR(G47),MONTH(G47)+1,DAY(G47)) -> 43922 | I47: =DATE(YEAR(H47),MONTH(H47)+1,DAY(H47)) -> 43952 | J47: =DATE(YEAR(I47),MONTH(I47)+1,DAY(I47)) -> 43983 | K47: =DATE(YEAR(J47),MONTH(J47)+1,DAY(J47)) -> 44013 | L47: =DATE(YEAR(K47),MONTH(K47)+1,DAY(K47)) -> 44044 | M47: =DATE(YEAR(L47),MONTH(L47)+1,DAY(L47)) -> 44075 | ... V47: =DATE(YEAR(U47),MONTH(U47)+1,DAY(U47)) -> 44348
D48: Month | E48: =VLOOKUP(MONTH(E47),Config!$B$1:$C$13,2,0) -> January | F48: =VLOOKUP(MONTH(F47),Config!$B$1:$C$13,2,0) -> February | G48: =VLOOKUP(MONTH(G47),Config!$B$1:$C$13,2,0) -> March | H48: =VLOOKUP(MONTH(H47),Config!$B$1:$C$13,2,0) -> April | I48: =VLOOKUP(MONTH(I47),Config!$B$1:$C$13,2,0) -> May | J48: =VLOOKUP(MONTH(J47),Config!$B$1:$C$13,2,0) -> June | K48: =VLOOKUP(MONTH(K47),Config!$B$1:$C$13,2,0) -> July | L48: =VLOOKUP(MONTH(L47),Config!$B$1:$C$13,2,0) -> August | ... V48: =VLOOKUP(MONTH(V47),Config!$B$1:$C$13,2,0) -> June
E49: EUR'000 | F49: EUR'000 | G49: EUR'000 | H49: EUR'000 | I49: EUR'000 | J49: EUR'000 | K49: EUR'000 | L49: EUR'000 | M49: EUR'000 | N49: EUR'000 | O49: EUR'000 | P49: EUR'000 | Q49: EUR'000 | R49: EUR'000 | S49: EUR'000 | T49: EUR'000 | U49: EUR'000 | V49: EUR'000
B50: Cash Balances
...

Sheet Config
B1: No | C1: Month | E1: Change
B2: 1 | C2: January | E2: -0.05
B3: 2 | C3: February | E3: -0.03
B4: 3 | C4: March | E4: -0.01
B5: 4 | C5: April | E5: 0
B6: 5 | C6: May | E6: 0.01
B7: 6 | C7: June | E7: 0.03
B8: 7 | C8: July | E8: 0.05
B9: 8 | C9: August
B10: 9 | C10: September
B11: 10 | C11: October
B12: 11 | C12: November
B13: 12 | C13: December
